BEGIN:VCALENDAR
VERSION:2.0
PRODID:-//RCCG Victory Centre Oxford UK - ECPv6.15.20//NONSGML v1.0//EN
CALSCALE:GREGORIAN
METHOD:PUBLISH
X-ORIGINAL-URL:https://rccgvictorycentre.org.uk
X-WR-CALDESC:Events for RCCG Victory Centre Oxford UK
REFRESH-INTERVAL;VALUE=DURATION:PT1H
X-Robots-Tag:noindex
X-PUBLISHED-TTL:PT1H
BEGIN:VTIMEZONE
TZID:Europe/London
BEGIN:DAYLIGHT
TZOFFSETFROM:+0000
TZOFFSETTO:+0100
TZNAME:BST
DTSTART:20250330T010000
END:DAYLIGHT
BEGIN:STANDARD
TZOFFSETFROM:+0100
TZOFFSETTO:+0000
TZNAME:GMT
DTSTART:20251026T010000
END:STANDARD
BEGIN:DAYLIGHT
TZOFFSETFROM:+0000
TZOFFSETTO:+0100
TZNAME:BST
DTSTART:20260329T010000
END:DAYLIGHT
BEGIN:STANDARD
TZOFFSETFROM:+0100
TZOFFSETTO:+0000
TZNAME:GMT
DTSTART:20261025T010000
END:STANDARD
BEGIN:DAYLIGHT
TZOFFSETFROM:+0000
TZOFFSETTO:+0100
TZNAME:BST
DTSTART:20270328T010000
END:DAYLIGHT
BEGIN:STANDARD
TZOFFSETFROM:+0100
TZOFFSETTO:+0000
TZNAME:GMT
DTSTART:20271031T010000
END:STANDARD
END:VTIMEZONE
BEGIN:VEVENT
DTSTART;TZID=Europe/London:20260614T103000
DTEND;TZID=Europe/London:20260614T123000
DTSTAMP:20260424T163519
CREATED:20260405T220953Z
LAST-MODIFIED:20260405T222904Z
UID:3279-1781433000-1781440200@rccgvictorycentre.org.uk
SUMMARY:Upper Room Experience - RCCG VCO Youth Church
DESCRIPTION:Upper Room Experience – Youth Church\nA place of fire. A place of transformation. A place where everything changed. \nThis is more than a service\, it is the Upper Room Experience. \nRCCG Victory Centre Youth Church is hosting you for a powerful move of the Holy Spirit. \n📅 Date: Sunday\, 14th June\n⏰ Time: 10:30 AM \n📍 Venue: Cheney School\, Chadwick Hall\, Gipsy Ln\, Headington\, Oxford OX3 7PT \n📲Contact: +447391181273 \nCome and be filled. Come and be transformed.
URL:https://rccgvictorycentre.org.uk/event/upper-room-experience-rccg-vco-youth-church/
LOCATION:RCCG Victory Centre Oxford\, Cheney School\, Chadwick Hall\, Gipsy Ln\, Headington\, Oxford\, OX3 7PT\, United Kingdom
END:VEVENT
END:VCALENDAR