BEGIN:VCALENDAR
VERSION:2.0
PRODID:-//RCCG Victory Centre Oxford UK - ECPv6.15.20//NONSGML v1.0//EN
CALSCALE:GREGORIAN
METHOD:PUBLISH
X-ORIGINAL-URL:https://rccgvictorycentre.org.uk
X-WR-CALDESC:Events for RCCG Victory Centre Oxford UK
REFRESH-INTERVAL;VALUE=DURATION:PT1H
X-Robots-Tag:noindex
X-PUBLISHED-TTL:PT1H
BEGIN:VTIMEZONE
TZID:Europe/London
BEGIN:DAYLIGHT
TZOFFSETFROM:+0000
TZOFFSETTO:+0100
TZNAME:BST
DTSTART:20250330T010000
END:DAYLIGHT
BEGIN:STANDARD
TZOFFSETFROM:+0100
TZOFFSETTO:+0000
TZNAME:GMT
DTSTART:20251026T010000
END:STANDARD
BEGIN:DAYLIGHT
TZOFFSETFROM:+0000
TZOFFSETTO:+0100
TZNAME:BST
DTSTART:20260329T010000
END:DAYLIGHT
BEGIN:STANDARD
TZOFFSETFROM:+0100
TZOFFSETTO:+0000
TZNAME:GMT
DTSTART:20261025T010000
END:STANDARD
BEGIN:DAYLIGHT
TZOFFSETFROM:+0000
TZOFFSETTO:+0100
TZNAME:BST
DTSTART:20270328T010000
END:DAYLIGHT
BEGIN:STANDARD
TZOFFSETFROM:+0100
TZOFFSETTO:+0000
TZNAME:GMT
DTSTART:20271031T010000
END:STANDARD
END:VTIMEZONE
BEGIN:VEVENT
DTSTART;TZID=Europe/London:20260410T200000
DTEND;TZID=Europe/London:20260410T210000
DTSTAMP:20260424T163634
CREATED:20260223T000215Z
LAST-MODIFIED:20260405T223459Z
UID:3218-1775851200-1775854800@rccgvictorycentre.org.uk
SUMMARY:Youth Bible Study
DESCRIPTION:Youth Bible Study\nYou’re invited to join us every Friday for a focused time in God’s Word. A space for sound teaching\, honest conversations and spiritual growth where faith is strengthened and truth is applied to everyday life. \n🗓 Every Friday\n⏰ 8PM to 9PM\n📍 Live on Zoom \nCome ready to learn\, grow\, and be transformed. \nJoin us via Zoom here.\nFor enquiries\, contact: +447391181273
URL:https://rccgvictorycentre.org.uk/event/3218/
END:VEVENT
BEGIN:VEVENT
DTSTART;TZID=Europe/London:20260412T103000
DTEND;TZID=Europe/London:20260412T123000
DTSTAMP:20260424T163634
CREATED:20260405T215828Z
LAST-MODIFIED:20260405T223123Z
UID:3252-1775989800-1775997000@rccgvictorycentre.org.uk
SUMMARY:Theme Exposition Sunday - RCCG VCO Youth Church
DESCRIPTION:Theme Exposition Sunday – Youth Church\nIt’s a new quarter… and we’re going deeper 🔥 \nFrom April to June\, our theme is THE HOLY SPIRIT — a journey into power\, identity\, and intimacy with God. \nMain scriptures: Romans 8:11 and Ephesians 1:13–14 \nTo fully engage this quarter\, we’re encouraging everyone to:\n✨ Read “Good Morning Holy Spirit” by Benny Hinn\n✨ Study the Book of Acts — where the power of the Spirit comes alive \nRCCG Victory Centre Youth Church invites you to this powerful launch service as we step into a deeper knowing and experience of the Holy Spirit. \n📅 Date: Sunday\, 12th April\n⏰ Time: 10:30 AM \n📍 Venue: Cheney School\, Chadwick Hall\, Gipsy Ln\, Headington\, Oxford OX3 7PT \n📲Contact: +447391181273 \n👉 Come ready. Come expectant. This is where it begins.
URL:https://rccgvictorycentre.org.uk/event/theme-exposition-sunday/
LOCATION:RCCG Victory Centre Oxford\, Cheney School\, Chadwick Hall\, Gipsy Ln\, Headington\, Oxford\, OX3 7PT\, United Kingdom
END:VEVENT
BEGIN:VEVENT
DTSTART;TZID=Europe/London:20260419T103000
DTEND;TZID=Europe/London:20260419T123000
DTSTAMP:20260424T163634
CREATED:20260405T220125Z
LAST-MODIFIED:20260405T223102Z
UID:3259-1776594600-1776601800@rccgvictorycentre.org.uk
SUMMARY:The Person and Ministry of the Holy Spirit - RCCG VCO Youth Church
DESCRIPTION:The Person and Ministry of the Holy Spirit – Youth Church\nWho is the Holy Spirit — really? \nHe is a Person. A Guide. A Helper. A Power within you. \nThis Sunday\, we’re diving deep into understanding the Person and Ministry of the Holy Spirit — how He speaks\, leads\, teaches\, and transforms lives from the inside out. \n📖 Romans 8:11 \nRCCG Victory Centre Youth Church invites you to step into a deeper\, more personal walk with the Holy Spirit. \n📅 Date: Sunday\, 19th April\n⏰ Time: 10:30 AM \n📍 Venue: Cheney School\, Chadwick Hall\, Gipsy Ln\, Headington\, Oxford OX3 7PT \n📲Contact: +447391181273 \n👉 Come join us — this is more than a service\, it’s an encounter.
URL:https://rccgvictorycentre.org.uk/event/the-person-and-ministry-of-the-holy-spirit-rccg-vco-youth-church/
LOCATION:RCCG Victory Centre Oxford\, Cheney School\, Chadwick Hall\, Gipsy Ln\, Headington\, Oxford\, OX3 7PT\, United Kingdom
END:VEVENT
BEGIN:VEVENT
DTSTART;TZID=Europe/London:20260426T103000
DTEND;TZID=Europe/London:20260426T123000
DTSTAMP:20260424T163634
CREATED:20260405T220345Z
LAST-MODIFIED:20260405T223044Z
UID:3264-1777199400-1777206600@rccgvictorycentre.org.uk
SUMMARY:The Gifts of the Holy Spirit - RCCG VCO Youth Church
DESCRIPTION:The Gifts of the Holy Spirit – Youth Church\nThe Holy Spirit empowers you with gifts that make impact and reveal God’s power in your life. \nThis Sunday\, we’re unlocking The Gifts of the Holy Spirit. What they are and how you can walk in them boldly. \n📖 Ephesians 1:13–14 \nRCCG Victory Centre Youth Church is hosting you for a powerful session of activation and discovery. \n📅 Date: Sunday\, 26th April\n⏰ Time: 10:30 AM \n📍 Venue: Cheney School\, Chadwick Hall\, Gipsy Ln\, Headington\, Oxford OX3 7PT \n📲Contact: +447391181273 \n👉 Come ready. It’s time to activate the gifts of the Spirit inside you.
URL:https://rccgvictorycentre.org.uk/event/the-gifts-of-the-holy-spirit-rccg-vco-youth-church/
END:VEVENT
BEGIN:VEVENT
DTSTART;TZID=Europe/London:20260517T103000
DTEND;TZID=Europe/London:20260517T123000
DTSTAMP:20260424T163634
CREATED:20260405T220539Z
LAST-MODIFIED:20260405T223023Z
UID:3269-1779013800-1779021000@rccgvictorycentre.org.uk
SUMMARY:The Fruit of the Holy Spirit - RCCG VCO Youth Church
DESCRIPTION:The Fruit of the Holy Spirit – Youth Church\nThe evidence of a Spirit-filled life is seen in how you live\, love and lead. \nThis Sunday\, we’re exploring The Fruit of the Holy Spirit\, the inner transformation that shapes you into who God has called you to be. \nLove. Joy. Peace. And more. \nRCCG Victory Centre Youth Church is inviting you into a deeper\, more consistent walk with God. \n📅 Date: Sunday\, 17th May\n⏰ Time: 10:30 AM \n📍 Venue: Cheney School\, Chadwick Hall\, Gipsy Ln\, Headington\, Oxford OX3 7PT \n📲Contact: +447391181273 \nGrow deeper. Live differently. Become more.\nJoin us and step into real transformation.
URL:https://rccgvictorycentre.org.uk/event/the-fruit-of-the-holy-spirit-rccg-vco-youth-church/
LOCATION:RCCG Victory Centre Oxford\, Cheney School\, Chadwick Hall\, Gipsy Ln\, Headington\, Oxford\, OX3 7PT\, United Kingdom
END:VEVENT
BEGIN:VEVENT
DTSTART;TZID=Europe/London:20260531T103000
DTEND;TZID=Europe/London:20260531T123000
DTSTAMP:20260424T163634
CREATED:20260405T220725Z
LAST-MODIFIED:20260405T222952Z
UID:3274-1780223400-1780230600@rccgvictorycentre.org.uk
SUMMARY:Special Prayer Service - RCCG VCO Youth Church
DESCRIPTION:Special Prayer Service – Youth Church\nThis is not a regular service.\nThis is a moment of encounter. \nWe’re setting aside time for a powerful Special Prayer Service where burdens are lifted and lives are changed. \nRCCG Victory Centre Youth Church is anchoring this powerful prayer gathering and you are invited. \n📅 Date: Sunday\, 31st May\n⏰ Time: 10:30 AM \n📍 Venue: Cheney School\, Chadwick Hall\, Gipsy Ln\, Headington\, Oxford OX3 7PT \n📲Contact: +447391181273 \nNo distractions. Just prayer. Just power. Just God.\nBe there. This could change everything.
URL:https://rccgvictorycentre.org.uk/event/special-prayer-service-rccg-vco-youth-church/
END:VEVENT
BEGIN:VEVENT
DTSTART;TZID=Europe/London:20260614T103000
DTEND;TZID=Europe/London:20260614T123000
DTSTAMP:20260424T163634
CREATED:20260405T220953Z
LAST-MODIFIED:20260405T222904Z
UID:3279-1781433000-1781440200@rccgvictorycentre.org.uk
SUMMARY:Upper Room Experience - RCCG VCO Youth Church
DESCRIPTION:Upper Room Experience – Youth Church\nA place of fire. A place of transformation. A place where everything changed. \nThis is more than a service\, it is the Upper Room Experience. \nRCCG Victory Centre Youth Church is hosting you for a powerful move of the Holy Spirit. \n📅 Date: Sunday\, 14th June\n⏰ Time: 10:30 AM \n📍 Venue: Cheney School\, Chadwick Hall\, Gipsy Ln\, Headington\, Oxford OX3 7PT \n📲Contact: +447391181273 \nCome and be filled. Come and be transformed.
URL:https://rccgvictorycentre.org.uk/event/upper-room-experience-rccg-vco-youth-church/
LOCATION:RCCG Victory Centre Oxford\, Cheney School\, Chadwick Hall\, Gipsy Ln\, Headington\, Oxford\, OX3 7PT\, United Kingdom
END:VEVENT
END:VCALENDAR