BEGIN:VCALENDAR
VERSION:2.0
PRODID:-//RCCG Victory Centre Oxford UK - ECPv6.15.20//NONSGML v1.0//EN
CALSCALE:GREGORIAN
METHOD:PUBLISH
X-WR-CALNAME:RCCG Victory Centre Oxford UK
X-ORIGINAL-URL:https://rccgvictorycentre.org.uk
X-WR-CALDESC:Events for RCCG Victory Centre Oxford UK
REFRESH-INTERVAL;VALUE=DURATION:PT1H
X-Robots-Tag:noindex
X-PUBLISHED-TTL:PT1H
BEGIN:VTIMEZONE
TZID:Europe/London
BEGIN:DAYLIGHT
TZOFFSETFROM:+0000
TZOFFSETTO:+0100
TZNAME:BST
DTSTART:20250330T010000
END:DAYLIGHT
BEGIN:STANDARD
TZOFFSETFROM:+0100
TZOFFSETTO:+0000
TZNAME:GMT
DTSTART:20251026T010000
END:STANDARD
BEGIN:DAYLIGHT
TZOFFSETFROM:+0000
TZOFFSETTO:+0100
TZNAME:BST
DTSTART:20260329T010000
END:DAYLIGHT
BEGIN:STANDARD
TZOFFSETFROM:+0100
TZOFFSETTO:+0000
TZNAME:GMT
DTSTART:20261025T010000
END:STANDARD
BEGIN:DAYLIGHT
TZOFFSETFROM:+0000
TZOFFSETTO:+0100
TZNAME:BST
DTSTART:20270328T010000
END:DAYLIGHT
BEGIN:STANDARD
TZOFFSETFROM:+0100
TZOFFSETTO:+0000
TZNAME:GMT
DTSTART:20271031T010000
END:STANDARD
END:VTIMEZONE
BEGIN:VEVENT
DTSTART;TZID=Europe/London:20260426T103000
DTEND;TZID=Europe/London:20260426T123000
DTSTAMP:20260424T151526
CREATED:20260405T220345Z
LAST-MODIFIED:20260405T223044Z
UID:3264-1777199400-1777206600@rccgvictorycentre.org.uk
SUMMARY:The Gifts of the Holy Spirit - RCCG VCO Youth Church
DESCRIPTION:The Gifts of the Holy Spirit – Youth Church\nThe Holy Spirit empowers you with gifts that make impact and reveal God’s power in your life. \nThis Sunday\, we’re unlocking The Gifts of the Holy Spirit. What they are and how you can walk in them boldly. \n📖 Ephesians 1:13–14 \nRCCG Victory Centre Youth Church is hosting you for a powerful session of activation and discovery. \n📅 Date: Sunday\, 26th April\n⏰ Time: 10:30 AM \n📍 Venue: Cheney School\, Chadwick Hall\, Gipsy Ln\, Headington\, Oxford OX3 7PT \n📲Contact: +447391181273 \n👉 Come ready. It’s time to activate the gifts of the Spirit inside you.
URL:https://rccgvictorycentre.org.uk/event/the-gifts-of-the-holy-spirit-rccg-vco-youth-church/
END:VEVENT
END:VCALENDAR